BEGIN:VCALENDAR
VERSION:2.0
PRODID:-//Plone.org//NONSGML plone.app.event//EN
X-WR-TIMEZONE:America/Sao_Paulo
BEGIN:VEVENT
SUMMARY:X Encontro de Pesquisa em História - Conferência de encerramento
 : Memórias de Brasil: o Bicentenário da Independência em [ Auditorio No
 bre do CAD 1]
DTSTART;TZID=America/Sao_Paulo;VALUE=DATE-TIME:20220527T173000
DTEND;TZID=America/Sao_Paulo;VALUE=DATE-TIME:20220527T213000
DTSTAMP;VALUE=DATE-TIME:20260422T081606Z
UID:1d610336b04b49f0bfb8c26162565f72@150.164.76.86:8080
CREATED;VALUE=DATE-TIME:20220425T152120Z
DESCRIPTION:Solicitamos apenas equipamentos para a realização da mesa\, 
 como projetor\, microfone e caixa de som. Teremos a presença de important
 es pesquisadores\, como Miriam Dohlnikoff\, Luiz Carlos Villalta e Inaê L
 opes.
LAST-MODIFIED;VALUE=DATE-TIME:20220526T134119Z
URL:http://150.164.76.86:8080/cac/agenda/12850145660389121250
END:VEVENT
BEGIN:VTIMEZONE
TZID:America/Sao_Paulo
X-LIC-LOCATION:America/Sao_Paulo
BEGIN:STANDARD
DTSTART;VALUE=DATE-TIME:20220219T230000
TZNAME:BRT
TZOFFSETFROM:-0200
TZOFFSETTO:-0300
END:STANDARD
END:VTIMEZONE
END:VCALENDAR
