BEGIN:VCALENDAR
VERSION:2.0
PRODID:-//Plone.org//NONSGML plone.app.event//EN
X-WR-TIMEZONE:America/Sao_Paulo
BEGIN:VEVENT
SUMMARY:Fórum de Temáticas Esportivas - FORTE \, evento da SEDESE em [ A
 uditorio A104 do Cad 2 Auditorio A102 do Cad 2]
DTSTART;TZID=America/Sao_Paulo;VALUE=DATE-TIME:20230307T070000
DTEND;TZID=America/Sao_Paulo;VALUE=DATE-TIME:20230308T210000
DTSTAMP;VALUE=DATE-TIME:20260421T145728Z
UID:ae1904a0b3af4065b64258f81c735f0d@150.164.76.86:8080
CREATED;VALUE=DATE-TIME:20230124T150305Z
DESCRIPTION:<p>A Secretaria de Estado de Desenvolvimento Social (Sedese)\,
  por meio de sua Subsecretaria de Esportes - SUBESP\, irá realizar nos di
 as 07 e 08 de março de 2023 o <b>Fórum de Temáticas Esportivas - FORTE
 </b>\, que tem como objetivo aproximar e fortalecer a comunidade esportiva
  da região Metropolitana\, regionalizar o processo de formulação de pos
 síveis novas políticas públicas e promover a cultura de escuta\, avalia
 ção e aprimoramento das políticas já em andamento.</p>\n<p> O <span 
 style="text-decoration-line: underline\; ">público alvo do FORTE</span> 
 é a comunidade esportiva mineira\, com foco nos(as) conselheiros(as) muni
 cipais de políticas esportivas\, gestores(as) esportivos(as) municipais\,
  professores(as) e alunos(as) de universidades e faculdades\, atletas\, t
 reinadores(as)\, bem como agentes esportivos privados de clubes\, associa
 ções\, federações ou individuais.</p>\n<p class="xmsonormal">Datas: <
 b>07/03/20</b>23 e <b>08/03/2023</b></p>\n<p> Horário: <b>08:00 – 17
 :00</b></p>\n<p> Público total: <b>150 pessoas</b></p>
LAST-MODIFIED;VALUE=DATE-TIME:20230209T185921Z
URL:http://150.164.76.86:8080/cac/agenda/12848013273358002084
END:VEVENT
BEGIN:VTIMEZONE
TZID:America/Sao_Paulo
X-LIC-LOCATION:America/Sao_Paulo
BEGIN:STANDARD
DTSTART;VALUE=DATE-TIME:20230225T230000
TZNAME:BRT
TZOFFSETFROM:-0200
TZOFFSETTO:-0300
END:STANDARD
END:VTIMEZONE
END:VCALENDAR
