BEGIN:VCALENDAR
VERSION:2.0
PRODID:-//Plone.org//NONSGML plone.app.event//EN
X-WR-TIMEZONE:America/Sao_Paulo
BEGIN:VEVENT
SUMMARY:Solenidade de Posse da Diretoria do Instituto de Geociências em [
  Outros espacos]
DTSTART;TZID=America/Sao_Paulo;VALUE=DATE-TIME:20220502T100000
DTEND;TZID=America/Sao_Paulo;VALUE=DATE-TIME:20220502T120000
DTSTAMP;VALUE=DATE-TIME:20260422T063400Z
UID:217f71c2960448bfbab802baefe8c953@150.164.76.86:8080
CREATED;VALUE=DATE-TIME:20220412T203224Z
DESCRIPTION:A posse da nova Diretoria será realizada em formato híbrido:
  cerimônia presencial pra cerca de 40/50 pessoas e transmissão via youtu
 be para os convidados. Para tanto\, necessitaremos dos seguintes itens:\n\
 n1) gravação da solenidade e transmissão via canal do youtube da univer
 sidade\, pois o IC não possui canal ativo\,\nnosso auditório possui sist
 ema de som e computador\, mas não dispomos de equipamentos para filmar e 
 transmitir o evento. Nosso técnico em audiovisual Alfredo (3409.5413 - si
 el@igc.ufmg.br) poderá esclarecer melhor \nsobre os equipamentos disponí
 veis.\n\n2) Kit da Reitora: toalha azul utilizada em posses\, púlpito de 
 aço e bandeiras\n\nA posse está confirmada pelo Gabinete da Reitora para
  as 10hs do dia 02/05/2022 mas precisaremos das adequações necessárias 
 para a realização do evento a partir das 9h.
LAST-MODIFIED;VALUE=DATE-TIME:20220418T194823Z
URL:http://150.164.76.86:8080/cac/agenda/12789956482010678765
END:VEVENT
BEGIN:VTIMEZONE
TZID:America/Sao_Paulo
X-LIC-LOCATION:America/Sao_Paulo
BEGIN:STANDARD
DTSTART;VALUE=DATE-TIME:20220219T230000
TZNAME:BRT
TZOFFSETFROM:-0200
TZOFFSETTO:-0300
END:STANDARD
END:VTIMEZONE
END:VCALENDAR
