BEGIN:VCALENDAR
VERSION:2.0
PRODID:-//Plone.org//NONSGML plone.app.event//EN
X-WR-TIMEZONE:America/Sao_Paulo
BEGIN:VEVENT
SUMMARY:UFMG-HUST Summer School on Legal Studies (Abertura) em [ Auditorio
  A104 do Cad 2]
DTSTART;TZID=America/Sao_Paulo;VALUE=DATE-TIME:20240730T090000
DTEND;TZID=America/Sao_Paulo;VALUE=DATE-TIME:20240802T220000
DTSTAMP;VALUE=DATE-TIME:20260419T205724Z
UID:c7c5995c839540338fb52d48070a07d7@150.164.76.86:8080
CREATED;VALUE=DATE-TIME:20240513T203835Z
DESCRIPTION:<p>Esse evento em si é a UFMG-HUST Summer School on Legal Stu
 dies\, uma parceria da UFMG com a universidade chinesa HUST. O evento ser
 á entre os dias 30/07 e 02/08. Essa reserva se refere a abertura no dia 3
 0/07. Um convite será enviado a Reitora\, e caso haja a confirmação da 
 participação dela o cerimonial será acionado. A infraestrutura necessá
 ria será data show para a exibição\, com som\, pois um dos palestrantes
  fará a fala remotamente. Mais detalhes posso alinhar junto à CAC.</p>
LAST-MODIFIED;VALUE=DATE-TIME:20240710T192326Z
URL:http://150.164.76.86:8080/cac/agenda/1277305692262170244
END:VEVENT
BEGIN:VTIMEZONE
TZID:America/Sao_Paulo
X-LIC-LOCATION:America/Sao_Paulo
BEGIN:STANDARD
DTSTART;VALUE=DATE-TIME:20240217T230000
TZNAME:BRT
TZOFFSETFROM:-0200
TZOFFSETTO:-0300
END:STANDARD
END:VTIMEZONE
END:VCALENDAR
