BEGIN:VCALENDAR
VERSION:2.0
PRODID:-//Plone.org//NONSGML plone.app.event//EN
X-WR-TIMEZONE:America/Sao_Paulo
BEGIN:VEVENT
SUMMARY:Montagem - Olimpiada de Quimica em [ Outros espacos]
DTSTART;TZID=America/Sao_Paulo;VALUE=DATE-TIME:20250430T080000
DTEND;TZID=America/Sao_Paulo;VALUE=DATE-TIME:20250430T180000
DTSTAMP;VALUE=DATE-TIME:20260419T103642Z
UID:cf35e0f9977f43469cd4e44286193df8@150.164.76.86:8080
CREATED;VALUE=DATE-TIME:20250422T134135Z
DESCRIPTION:<p>Montagem da sala de imprensa</p>
LAST-MODIFIED;VALUE=DATE-TIME:20250422T134157Z
URL:http://150.164.76.86:8080/cac/agenda/12739155082161153561
END:VEVENT
BEGIN:VTIMEZONE
TZID:America/Sao_Paulo
X-LIC-LOCATION:America/Sao_Paulo
BEGIN:STANDARD
DTSTART;VALUE=DATE-TIME:20250215T230000
TZNAME:BRT
TZOFFSETFROM:-0200
TZOFFSETTO:-0300
END:STANDARD
END:VTIMEZONE
END:VCALENDAR
