BEGIN:VCALENDAR
VERSION:2.0
PRODID:-//Plone.org//NONSGML plone.app.event//EN
X-WR-TIMEZONE:America/Sao_Paulo
BEGIN:VEVENT
SUMMARY:III Jornada de Direitos Humanos da UFMG: democratizar os direitos 
 humanos em [ Auditorio A104 do Cad 2]
DTSTART;TZID=America/Sao_Paulo;VALUE=DATE-TIME:20221125T080000
DTEND;TZID=America/Sao_Paulo;VALUE=DATE-TIME:20221125T180000
DTSTAMP;VALUE=DATE-TIME:20260421T221837Z
UID:7ca4832523b9463aac24789c26e09ae3@150.164.76.86:8080
CREATED;VALUE=DATE-TIME:20221006T195309Z
DESCRIPTION:A III Jornada de Direitos Humanos é um evento promovido pela 
 Rede de Direitos Humanos em parceria com a Pró-Reitoria de Extensão da U
 FMG. \n\nA edição deste ano terá como tema o debate sobre "democratizan
 do os direitos humanos" e contará com a participação de entidades\, suj
 eitos e coletivos sociais.\n\nO evento acontecerá nos turnos da manhã e 
 tarde do dia 25 de novembro de 2022
LAST-MODIFIED;VALUE=DATE-TIME:20221010T183511Z
URL:http://150.164.76.86:8080/cac/agenda/127287978783958483
END:VEVENT
BEGIN:VTIMEZONE
TZID:America/Sao_Paulo
X-LIC-LOCATION:America/Sao_Paulo
BEGIN:DAYLIGHT
DTSTART;VALUE=DATE-TIME:20221016T010000
TZNAME:BRST
TZOFFSETFROM:-0300
TZOFFSETTO:-0200
END:DAYLIGHT
END:VTIMEZONE
END:VCALENDAR
