BEGIN:VCALENDAR
VERSION:2.0
PRODID:-//Plone.org//NONSGML plone.app.event//EN
X-WR-TIMEZONE:America/Sao_Paulo
BEGIN:VEVENT
SUMMARY:Reunião CEPE em [ Outros espacos]
DTSTART;TZID=America/Sao_Paulo;VALUE=DATE-TIME:20230921T140000
DTEND;TZID=America/Sao_Paulo;VALUE=DATE-TIME:20230921T180000
DTSTAMP;VALUE=DATE-TIME:20260421T075127Z
UID:fb264b59ab1d49d287fc11b204ab000b@150.164.76.86:8080
CREATED;VALUE=DATE-TIME:20230915T120545Z
DESCRIPTION:<p><span><span><span>Operar o equipamento multimídia da Sala 
 das Sessões e gravar em áudio a reunião<br /></span></span></span></p>
LAST-MODIFIED;VALUE=DATE-TIME:20230915T120615Z
URL:http://150.164.76.86:8080/cac/agenda/12724486899372665977
END:VEVENT
BEGIN:VTIMEZONE
TZID:America/Sao_Paulo
X-LIC-LOCATION:America/Sao_Paulo
BEGIN:STANDARD
DTSTART;VALUE=DATE-TIME:20230225T230000
TZNAME:BRT
TZOFFSETFROM:-0200
TZOFFSETTO:-0300
END:STANDARD
END:VTIMEZONE
END:VCALENDAR
