BEGIN:VCALENDAR
VERSION:2.0
PRODID:-//Plone.org//NONSGML plone.app.event//EN
X-WR-TIMEZONE:America/Sao_Paulo
BEGIN:VEVENT
SUMMARY:Visita Presidente do CNPq em [ Auditório B101/102 do CAD 3]
DTSTART;TZID=America/Sao_Paulo;VALUE=DATE-TIME:20231002T150000
DTEND;TZID=America/Sao_Paulo;VALUE=DATE-TIME:20231002T180000
DTSTAMP;VALUE=DATE-TIME:20260420T130828Z
UID:993f2b440a2e4518918e76149c04917e@150.164.76.86:8080
CREATED;VALUE=DATE-TIME:20230922T184355Z
DESCRIPTION:<p>Palestra Presidente do CNPq</p>
LAST-MODIFIED;VALUE=DATE-TIME:20230926T190707Z
URL:http://150.164.76.86:8080/cac/agenda/12718789328386240425
END:VEVENT
BEGIN:VTIMEZONE
TZID:America/Sao_Paulo
X-LIC-LOCATION:America/Sao_Paulo
BEGIN:STANDARD
DTSTART;VALUE=DATE-TIME:20230225T230000
TZNAME:BRT
TZOFFSETFROM:-0200
TZOFFSETTO:-0300
END:STANDARD
END:VTIMEZONE
END:VCALENDAR
