BEGIN:VCALENDAR
VERSION:2.0
PRODID:-//Plone.org//NONSGML plone.app.event//EN
X-WR-TIMEZONE:America/Sao_Paulo
BEGIN:VEVENT
SUMMARY:Roda de Conversa - Normas Acadêmicas - Recepção de Calouros 2/2
 024 em [ Outros espacos]
DTSTART;TZID=America/Sao_Paulo;VALUE=DATE-TIME:20241009T163000
DTEND;TZID=America/Sao_Paulo;VALUE=DATE-TIME:20241009T190000
DTSTAMP;VALUE=DATE-TIME:20260419T192210Z
UID:d53fd3ac0ee5453fbb06ec1103effd97@150.164.76.86:8080
CREATED;VALUE=DATE-TIME:20240910T172956Z
DESCRIPTION:O Evento contará com a presença das seguintes autoridades:\n
 \nVice-Reitor -\n\nUm Representante da PRAE -\n\nUm Representante da PROGR
 AD -\n\nUm Representante  da FUMP\n\nOs quatro integrantes estarão compon
 do o palco durante todo o Evento.\n\nO  formato do Evento é em uma Roda d
 e Conversa e não haverá mesa central e púlpito\, Apenas uma pequena mes
 a para acomodar as águas.\n\nPrecisaremos do Apoio Técnico da CAC com a 
 presença de um Técnico para configuração dos equipamentos  e acompanha
 r todo o evento.\n\nPrecisamos de 3 Microfones SEM-FIO e os Serviços Gera
 is da Fafich irá ceder mais 2 Microfones SEM-FIO.
LAST-MODIFIED;VALUE=DATE-TIME:20240916T135333Z
URL:http://150.164.76.86:8080/cac/agenda/12718560070336960739
END:VEVENT
BEGIN:VTIMEZONE
TZID:America/Sao_Paulo
X-LIC-LOCATION:America/Sao_Paulo
BEGIN:STANDARD
DTSTART;VALUE=DATE-TIME:20240217T230000
TZNAME:BRT
TZOFFSETFROM:-0200
TZOFFSETTO:-0300
END:STANDARD
END:VTIMEZONE
END:VCALENDAR
