BEGIN:VCALENDAR
VERSION:2.0
PRODID:-//Plone.org//NONSGML plone.app.event//EN
X-WR-TIMEZONE:America/Sao_Paulo
BEGIN:VEVENT
SUMMARY:Reunião sobre propostas para o edital FINEP - Centros Temáticos 
 2023 em [ Auditorio da Reitoria]
DTSTART;TZID=America/Sao_Paulo;VALUE=DATE-TIME:20240222T090000
DTEND;TZID=America/Sao_Paulo;VALUE=DATE-TIME:20240222T120000
DTSTAMP;VALUE=DATE-TIME:20260420T080832Z
UID:84af629603344020a29189fda153c9dc@150.164.76.86:8080
CREATED;VALUE=DATE-TIME:20240220T131159Z
DESCRIPTION:<p>Reunião para apresentação de propostas relativa ao edita
 l FINEP - Centros Temáticos 2023. Necessário que a reunião seja realiza
 da de forma híbrida\, de modo que participantes do ICA - Montes Claros po
 ssam participar. Será necessário o uso de projetor e microfone. Há poss
 ibilidade de quatro pessoas sentarem-se a mesa. Não é necessário formal
 idades.</p>
LAST-MODIFIED;VALUE=DATE-TIME:20240221T151750Z
URL:http://150.164.76.86:8080/cac/agenda/12716654836863455371
END:VEVENT
BEGIN:VTIMEZONE
TZID:America/Sao_Paulo
X-LIC-LOCATION:America/Sao_Paulo
BEGIN:STANDARD
DTSTART;VALUE=DATE-TIME:20240217T230000
TZNAME:BRT
TZOFFSETFROM:-0200
TZOFFSETTO:-0300
END:STANDARD
END:VTIMEZONE
END:VCALENDAR
