BEGIN:VCALENDAR
VERSION:2.0
PRODID:-//Plone.org//NONSGML plone.app.event//EN
X-WR-TIMEZONE:America/Sao_Paulo
BEGIN:VEVENT
SUMMARY:Domingo no Campus em [ Auditorio da Reitoria Saguao da Reitoria Gr
 amado da Reitoria Arena da praça de serviços Entorno da Praca de Servico
 s Auditorio Nobre do CAD 1 Auditorio 1A do CAD 1 Auditorio 2A do CAD 1 Aud
 itorio A102 do Cad 2 Auditorio A104 do Cad 2 Auditório B101/102 do CAD 3 
 Auditório B301 do CAD 3 Auditório B302 do CAD 3 Auditório B106 do CAD3 
 Auditório B107 do CAD3 Outros espacos]
DTSTART;TZID=America/Sao_Paulo;VALUE=DATE-TIME:20230917T000000
DTEND;TZID=America/Sao_Paulo;VALUE=DATE-TIME:20230917T230000
DTSTAMP;VALUE=DATE-TIME:20260421T062216Z
UID:a789f8a685da4b0fbe74d0a6bf3a2c89@150.164.76.86:8080
CREATED;VALUE=DATE-TIME:20221110T141628Z
DESCRIPTION:<p>Domingo no Campus</p>
LAST-MODIFIED;VALUE=DATE-TIME:20230111T201121Z
URL:http://150.164.76.86:8080/cac/agenda/12708663655823809786
END:VEVENT
BEGIN:VTIMEZONE
TZID:America/Sao_Paulo
X-LIC-LOCATION:America/Sao_Paulo
BEGIN:STANDARD
DTSTART;VALUE=DATE-TIME:20230225T230000
TZNAME:BRT
TZOFFSETFROM:-0200
TZOFFSETTO:-0300
END:STANDARD
END:VTIMEZONE
END:VCALENDAR
