BEGIN:VCALENDAR
VERSION:2.0
PRODID:-//Plone.org//NONSGML plone.app.event//EN
X-WR-TIMEZONE:America/Sao_Paulo
BEGIN:VEVENT
SUMMARY:Palestra FrancEcolab Brasil 2022. em [ Auditorio A102 do Cad 2]
DTSTART;TZID=America/Sao_Paulo;VALUE=DATE-TIME:20221128T123000
DTEND;TZID=America/Sao_Paulo;VALUE=DATE-TIME:20221128T160000
DTSTAMP;VALUE=DATE-TIME:20260421T220919Z
UID:28bedfceb475443d81aa83f030e0934c@150.164.76.86:8080
CREATED;VALUE=DATE-TIME:20221017T172028Z
DESCRIPTION:A FrancEcolab Brasil é um projeto da Embaixada da França no 
 Brasil que visa consciencializar jovens brasileiros e brasileiras sobre o 
 desafio ambiental de proteger rios \ne oceanos.\n\nA atividade consiste na
  apresentação de uma palestra sobre temáticas correlatas ao projeto e t
 ambém das produções realizadas na FrancEcolab Brasil 2022.\nEncerrament
 o da FrancEcolab Brasil 2022 e entrega de certificados de participação e
  premiação dos trabalhos apresentados. \n\nParticipação de representan
 tes da Embaixada da França no Brasil\, de professores da UFMG\, alunos e 
 professores do Centro pedagógico - CP/EBAP/UFMG \ne de outras escolas par
 ticipantes da FrancEcolab Brasil 2022.\n\nEquipamentos necessários:\n- 2 
 microfones de mesa\;\n- 1 notebook\;\n- transmissão via canal do YouTube\
 ;\n- equipamentos de multimídia (projetor e tela para projeção)\;\n- me
 sa de honra para 10 convidados\;\n- parlatório/púlpito com 1 microfone.\
 n\n12:30 - organização do espaço\n12:50 - chegada dos participantes\n13
 h - abertura\n13h30 - premiação dos trabalhos\n14h - abertura da palestr
 a\n15h - debate\n15h30 - encerramento \n16h - finalização das atividades
  no local\n\nDesde já agradeço.\n\nRaquel Dias\n(31) 3409.5175 - Cenex C
 P
LAST-MODIFIED;VALUE=DATE-TIME:20221103T150150Z
URL:http://150.164.76.86:8080/cac/agenda/1270668456673348185
END:VEVENT
BEGIN:VTIMEZONE
TZID:America/Sao_Paulo
X-LIC-LOCATION:America/Sao_Paulo
BEGIN:DAYLIGHT
DTSTART;VALUE=DATE-TIME:20221016T010000
TZNAME:BRST
TZOFFSETFROM:-0300
TZOFFSETTO:-0200
END:DAYLIGHT
END:VTIMEZONE
END:VCALENDAR
