BEGIN:VCALENDAR
VERSION:2.0
PRODID:-//Plone.org//NONSGML plone.app.event//EN
X-WR-TIMEZONE:America/Sao_Paulo
BEGIN:VEVENT
SUMMARY:Encontro Regional de Empresas Juniores em [ Auditorio Nobre do CAD
  1]
DTSTART;TZID=America/Sao_Paulo;VALUE=DATE-TIME:20231125T080000
DTEND;TZID=America/Sao_Paulo;VALUE=DATE-TIME:20231125T200000
DTSTAMP;VALUE=DATE-TIME:20260420T143123Z
UID:838d7ac3725c47a1ac7be0646af3fc1a@150.164.76.86:8080
CREATED;VALUE=DATE-TIME:20230913T165052Z
DESCRIPTION:<p>Encontro de Empresas Juniores de Belo Horizonte e região.<
 /p>
LAST-MODIFIED;VALUE=DATE-TIME:20231010T131534Z
URL:http://150.164.76.86:8080/cac/agenda/12690196085535535473
END:VEVENT
BEGIN:VTIMEZONE
TZID:America/Sao_Paulo
X-LIC-LOCATION:America/Sao_Paulo
BEGIN:DAYLIGHT
DTSTART;VALUE=DATE-TIME:20231015T010000
TZNAME:BRST
TZOFFSETFROM:-0300
TZOFFSETTO:-0200
END:DAYLIGHT
END:VTIMEZONE
END:VCALENDAR
