BEGIN:VCALENDAR
VERSION:2.0
PRODID:-//Plone.org//NONSGML plone.app.event//EN
X-WR-TIMEZONE:America/Sao_Paulo
BEGIN:VEVENT
SUMMARY:BANCA DE HETEROIDENTIFICAÇÃO em [ Auditório B101/102 do CAD 3 A
 uditório B106 do CAD3 Auditório B107 do CAD3]
DTSTART;TZID=America/Sao_Paulo;VALUE=DATE-TIME:20240801T070000
DTEND;TZID=America/Sao_Paulo;VALUE=DATE-TIME:20240801T180000
DTSTAMP;VALUE=DATE-TIME:20260419T205551Z
UID:e65efba14e854bd5b27c539346d11afe@150.164.76.86:8080
CREATED;VALUE=DATE-TIME:20240611T155227Z
DESCRIPTION:<p>Registro Acadêmico</p>
LAST-MODIFIED;VALUE=DATE-TIME:20240611T195700Z
URL:http://150.164.76.86:8080/cac/agenda/12688523983279903205
END:VEVENT
BEGIN:VTIMEZONE
TZID:America/Sao_Paulo
X-LIC-LOCATION:America/Sao_Paulo
BEGIN:STANDARD
DTSTART;VALUE=DATE-TIME:20240217T230000
TZNAME:BRT
TZOFFSETFROM:-0200
TZOFFSETTO:-0300
END:STANDARD
END:VTIMEZONE
END:VCALENDAR
