BEGIN:VCALENDAR
VERSION:2.0
PRODID:-//Plone.org//NONSGML plone.app.event//EN
X-WR-TIMEZONE:America/Sao_Paulo
BEGIN:VEVENT
SUMMARY:SEMANA DE SAÚDE MENTAL 2020 em [ Auditorio Nobre do CAD 1]
DTSTART;TZID=America/Sao_Paulo;VALUE=DATE-TIME:20200519T130000
DTEND;TZID=America/Sao_Paulo;VALUE=DATE-TIME:20200519T180000
DTSTAMP;VALUE=DATE-TIME:20260425T000528Z
UID:a1cb472fb144410c9f3e540f898333a2@150.164.76.86:8080
CREATED;VALUE=DATE-TIME:20191220T125553Z
DESCRIPTION:EVENTO: SEMANA DE SAÚDE MENTAL\n\nATIVIDADE: MESA/PALESTRA SO
 BRE SAÚDE MENTAL\n\nEQUIPAMENTOS: MICROFONES PARA A MESA\, DATA-SHOW\, GR
 AVAÇÃO DO EVENTO\n\nPROGRAMAÇÃO/BREVE DESCRIÇÃO DO EVENTO - Dia: 19/
 05/20 - Horário Previsto: de 13 às 18horas \nO Fórum de Saúde Mental e
 m Belo Horizonte é um espaço de construções e reflexões sobre a Polí
 tica e o cuidado em Saúde mental.  PÚBLICO: \nprofissionais da Rede de s
 aúde e de outras Politicas\, estudantes\, professores e participantes da 
 Semana de Saúde Mental da UFMG. \nEstimamos\, para o próximo FSM\, um p
 úblico de cerca de 500 a 600 pessoas. \nPARCERIA: O FSM\, nas suas duas 
 últimas edições\, foi organizado em parceria com o LAGIR da UFMG. \nTEM
 A DO PRÓXIMO FSM: Apoio Matricial e o Projeto Democratizante de Saúde Co
 letiva no Brasil: o singular e coletivo na Saúde Mental. \nConvidado: Pro
 f. Gastão Wagner de Souza Campos (UNICAMP).
LAST-MODIFIED;VALUE=DATE-TIME:20191230T105607Z
URL:http://150.164.76.86:8080/cac/agenda/1267996829778298320
END:VEVENT
BEGIN:VTIMEZONE
TZID:America/Sao_Paulo
X-LIC-LOCATION:America/Sao_Paulo
BEGIN:STANDARD
DTSTART;VALUE=DATE-TIME:20200215T230000
TZNAME:BRT
TZOFFSETFROM:-0200
TZOFFSETTO:-0300
END:STANDARD
END:VTIMEZONE
END:VCALENDAR
