BEGIN:VCALENDAR
VERSION:2.0
PRODID:-//Plone.org//NONSGML plone.app.event//EN
X-WR-TIMEZONE:America/Sao_Paulo
BEGIN:VEVENT
SUMMARY:Abertura Novembro Negro 2023 em [ Auditorio da Reitoria]
DTSTART;TZID=America/Sao_Paulo;VALUE=DATE-TIME:20231120T080000
DTEND;TZID=America/Sao_Paulo;VALUE=DATE-TIME:20231120T210000
DTSTAMP;VALUE=DATE-TIME:20260420T131547Z
UID:2a48fcaf41c74f86b1e7ad34ca5574bf@150.164.76.86:8080
CREATED;VALUE=DATE-TIME:20230824T171631Z
DESCRIPTION:<p>Evento de Abertura do Novembro Negro UFMG 2023</p>
LAST-MODIFIED;VALUE=DATE-TIME:20230929T164204Z
URL:http://150.164.76.86:8080/cac/agenda/12679202140603182160
END:VEVENT
BEGIN:VTIMEZONE
TZID:America/Sao_Paulo
X-LIC-LOCATION:America/Sao_Paulo
BEGIN:DAYLIGHT
DTSTART;VALUE=DATE-TIME:20231015T010000
TZNAME:BRST
TZOFFSETFROM:-0300
TZOFFSETTO:-0200
END:DAYLIGHT
END:VTIMEZONE
END:VCALENDAR
