BEGIN:VCALENDAR
VERSION:2.0
PRODID:-//Plone.org//NONSGML plone.app.event//EN
X-WR-TIMEZONE:America/Sao_Paulo
BEGIN:VEVENT
SUMMARY:Reunião CEPE em [ Outros espacos]
DTSTART;TZID=America/Sao_Paulo;VALUE=DATE-TIME:20250311T140000
DTEND;TZID=America/Sao_Paulo;VALUE=DATE-TIME:20250311T180000
DTSTAMP;VALUE=DATE-TIME:20260419T120328Z
UID:5301df7ee1684ee68c24a5f2abafdd94@150.164.76.86:8080
CREATED;VALUE=DATE-TIME:20250307T120403Z
DESCRIPTION:Operar o equipamento multimídia da Sala das Sessões e para g
 ravar em áudio a reunião
LAST-MODIFIED;VALUE=DATE-TIME:20250307T120538Z
URL:http://150.164.76.86:8080/cac/agenda/12676751734259580972
END:VEVENT
BEGIN:VTIMEZONE
TZID:America/Sao_Paulo
X-LIC-LOCATION:America/Sao_Paulo
BEGIN:STANDARD
DTSTART;VALUE=DATE-TIME:20250215T230000
TZNAME:BRT
TZOFFSETFROM:-0200
TZOFFSETTO:-0300
END:STANDARD
END:VTIMEZONE
END:VCALENDAR
