BEGIN:VCALENDAR
VERSION:2.0
PRODID:-//Plone.org//NONSGML plone.app.event//EN
X-WR-TIMEZONE:America/Sao_Paulo
BEGIN:VEVENT
SUMMARY:Aniversário Escola de Engenharia em [ Outros espacos]
DTSTART;TZID=America/Sao_Paulo;VALUE=DATE-TIME:20220520T180000
DTEND;TZID=America/Sao_Paulo;VALUE=DATE-TIME:20220520T200000
DTSTAMP;VALUE=DATE-TIME:20260422T081606Z
UID:584edafed9434a439edef9f6c507c3d0@150.164.76.86:8080
CREATED;VALUE=DATE-TIME:20220922T200246Z
DESCRIPTION:<p>Aniversário Escola de Engenharia</p>\n<p> </p>
LAST-MODIFIED;VALUE=DATE-TIME:20220922T200443Z
URL:http://150.164.76.86:8080/cac/agenda/12676014241864493168
END:VEVENT
BEGIN:VTIMEZONE
TZID:America/Sao_Paulo
X-LIC-LOCATION:America/Sao_Paulo
BEGIN:STANDARD
DTSTART;VALUE=DATE-TIME:20220219T230000
TZNAME:BRT
TZOFFSETFROM:-0200
TZOFFSETTO:-0300
END:STANDARD
END:VTIMEZONE
END:VCALENDAR
