BEGIN:VCALENDAR
VERSION:2.0
PRODID:-//Plone.org//NONSGML plone.app.event//EN
X-WR-TIMEZONE:America/Sao_Paulo
BEGIN:VEVENT
SUMMARY:Festival de Teatro Negro em [ Auditorio da Reitoria]
DTSTART;TZID=America/Sao_Paulo;VALUE=DATE-TIME:20220824T070000
DTEND;TZID=America/Sao_Paulo;VALUE=DATE-TIME:20220825T220000
DTSTAMP;VALUE=DATE-TIME:20260422T032130Z
UID:056ecbbd128849969504a55f95768a71@150.164.76.86:8080
CREATED;VALUE=DATE-TIME:20220816T193054Z
DESCRIPTION:<p>Reagendamento do evento</p>\n<p>Quarta 12:30</p>\n<p>Quinta
  17:30 (Ao cair da tarde)</p>
LAST-MODIFIED;VALUE=DATE-TIME:20220816T193112Z
URL:http://150.164.76.86:8080/cac/agenda/12658527065142447494
END:VEVENT
BEGIN:VTIMEZONE
TZID:America/Sao_Paulo
X-LIC-LOCATION:America/Sao_Paulo
BEGIN:STANDARD
DTSTART;VALUE=DATE-TIME:20220219T230000
TZNAME:BRT
TZOFFSETFROM:-0200
TZOFFSETTO:-0300
END:STANDARD
END:VTIMEZONE
END:VCALENDAR
