BEGIN:VCALENDAR
VERSION:2.0
PRODID:-//Plone.org//NONSGML plone.app.event//EN
X-WR-TIMEZONE:America/Sao_Paulo
BEGIN:VEVENT
SUMMARY:CAPACIDADE EXCEDIDA em [ Saguao da Reitoria Auditorio da Reitoria 
 Gramado da Reitoria Auditorio 1A do CAD 1 Auditorio 2A do CAD 1 Arena da p
 raça de serviços Auditório B302 do CAD 3 Auditório B101 do CAD 3 Audit
 ório B301 do CAD 3]
DTSTART;TZID=America/Sao_Paulo;VALUE=DATE-TIME:20200810T070000
DTEND;TZID=America/Sao_Paulo;VALUE=DATE-TIME:20200811T170000
DTSTAMP;VALUE=DATE-TIME:20260424T195121Z
UID:a690b071644a46d1870d9632697df9a0@150.164.76.86:8080
CREATED;VALUE=DATE-TIME:20200311T164141Z
DESCRIPTION:<p>.</p>
LAST-MODIFIED;VALUE=DATE-TIME:20200311T164205Z
URL:http://150.164.76.86:8080/cac/agenda/12651950577776368923
END:VEVENT
BEGIN:VTIMEZONE
TZID:America/Sao_Paulo
X-LIC-LOCATION:America/Sao_Paulo
BEGIN:STANDARD
DTSTART;VALUE=DATE-TIME:20200215T230000
TZNAME:BRT
TZOFFSETFROM:-0200
TZOFFSETTO:-0300
END:STANDARD
END:VTIMEZONE
END:VCALENDAR
