BEGIN:VCALENDAR
VERSION:2.0
PRODID:-//Plone.org//NONSGML plone.app.event//EN
X-WR-TIMEZONE:America/Sao_Paulo
BEGIN:VEVENT
SUMMARY:CANCELADO - Memória do passado – histórias da pesquisa na UFMG
   em [ Auditorio da Reitoria]
DTSTART;TZID=America/Sao_Paulo;VALUE=DATE-TIME:20230420T130000
DTEND;TZID=America/Sao_Paulo;VALUE=DATE-TIME:20230420T170000
DTSTAMP;VALUE=DATE-TIME:20260421T164256Z
UID:d8c86f581e7943ce8509e918ff9e199c@150.164.76.86:8080
CREATED;VALUE=DATE-TIME:20230124T132402Z
DESCRIPTION:<p><span>Homenagem a alguns cientistas renomados aposentados d
 a UFMG\, da área de humanidades</span><span><br />Informe os equipamentos
 \, os serviços necessários e a programação do evento. Microfones\, mes
 a para 5 pessoas\, água\, equipamento para projeção.</span><br /><span>
 Programação:</span><br /><span>14 h: Abertura (Profa. Sandra ou Prof. Fe
 rnando)</span><br /><span>14:15-15:50: Apresentação dos homenageados\, u
 m a um\, entrega de certificado\, breve apresentação feita por cada home
 nageado.</span><br /><span>15:50h: Encerramento: Profa. Sandra ou Prof. F
 ernando</span></p>
LAST-MODIFIED;VALUE=DATE-TIME:20230403T203830Z
URL:http://150.164.76.86:8080/cac/agenda/12639449528196379711
END:VEVENT
BEGIN:VTIMEZONE
TZID:America/Sao_Paulo
X-LIC-LOCATION:America/Sao_Paulo
BEGIN:STANDARD
DTSTART;VALUE=DATE-TIME:20230225T230000
TZNAME:BRT
TZOFFSETFROM:-0200
TZOFFSETTO:-0300
END:STANDARD
END:VTIMEZONE
END:VCALENDAR
