BEGIN:VCALENDAR
VERSION:2.0
PRODID:-//Plone.org//NONSGML plone.app.event//EN
X-WR-TIMEZONE:America/Sao_Paulo
BEGIN:VEVENT
SUMMARY:International Conference on Tip-Enhanced Raman Spesctrosocpy & Enc
 ontro Nacional de Espectroscopia Raman em [ Auditorio A102 do Cad 2 Audito
 rio A104 do Cad 2]
DTSTART;TZID=America/Sao_Paulo;VALUE=DATE-TIME:20241101T080000
DTEND;TZID=America/Sao_Paulo;VALUE=DATE-TIME:20241108T210000
DTSTAMP;VALUE=DATE-TIME:20260419T163439Z
UID:c15aeb64dafe4548abaf662afa67569a@150.164.76.86:8080
CREATED;VALUE=DATE-TIME:20231026T180410Z
DESCRIPTION:<p>A 9th International Conference on Tip-Enhanced Raman Spectr
 oscopy (TERS 9) é organizada pela comunidade internacional de pesquisador
 es na técnica TERS (em português\, Espectroscopia Raman Amplificada por 
 Sonda). O Comitê Diretivo (Steering Committee) é composto por oito pesqu
 isadores sênior de várias partes do mundo\, com expressiva produção ci
 entífica e tecnológica em TERS. O evento acontece desde 2009\, bianualme
 nte\, tendo havido algumas exceções na frequência. Os eventos anteriore
 s\, seus locais e anos de realização foram: TERS 1 – NPL\, Londres (20
 09)\; TERS 2 – NPL\, Londres (2011)\; TERS 3 – ETH\, Zurique (2013)\; 
 TERS 4 – Rio de Janeiro (2014)\; TERS 5 – Osaka\, Japão (2015)\; TERS
  6 – NIST\, EUA (2017)\; TERS 7 – Xiamen\, China (2019)\, TERS 8 – P
 aris\, França (2022). O Encontro Brasileiro de Espectroscopia Raman (Enbr
 aer) aborda temas relacionados è técnica de espectroscopia Raman. Ele fo
 i concebido como um evento itinerante que tem por finalidade aproximar as 
 comunidades de pesquisadores que empregam a a técnica em suas atividades 
 de pesquisa. A primeira edição do Enbraer foi realizada em 2009. Histori
 camente o evento agrega entre 150 e 250 pesquisadores de todas as regiões
  do Brasil\, com destaque à presença de estudantes\, que geralmente comp
 õem em torno de 70% do público participante. Há também a presença de 
 muitos expositores\, uma vez que se trata de uma área com forte demanda d
 e grandes equipamentos. O Comitê Científico é composto por pesquisadore
 s sênior de várias partes do Brasil\, com expressiva produção científ
 ica e tecnológica em espectroscopia Raman. Por serem temas correlatos\, a
 s duas conferências\, uma nacional e a outra internacional\, serão reali
 zada uma na sequência da outra.</p>
LAST-MODIFIED;VALUE=DATE-TIME:20240327T153903Z
URL:http://150.164.76.86:8080/cac/agenda/12629114097085673696
END:VEVENT
BEGIN:VTIMEZONE
TZID:America/Sao_Paulo
X-LIC-LOCATION:America/Sao_Paulo
BEGIN:DAYLIGHT
DTSTART;VALUE=DATE-TIME:20241020T010000
TZNAME:BRST
TZOFFSETFROM:-0300
TZOFFSETTO:-0200
END:DAYLIGHT
END:VTIMEZONE
END:VCALENDAR
