BEGIN:VCALENDAR
VERSION:2.0
PRODID:-//Plone.org//NONSGML plone.app.event//EN
X-WR-TIMEZONE:America/Sao_Paulo
BEGIN:VEVENT
SUMMARY:Evento de Lançamento do Projeto Somos Parceiros em [ Auditorio A1
 04 do Cad 2]
DTSTART;TZID=America/Sao_Paulo;VALUE=DATE-TIME:20250513T173000
DTEND;TZID=America/Sao_Paulo;VALUE=DATE-TIME:20250513T190000
DTSTAMP;VALUE=DATE-TIME:20260419T091028Z
UID:ba645697679b4da4823aba020a3020bf@150.164.76.86:8080
CREATED;VALUE=DATE-TIME:20250505T171321Z
DESCRIPTION:Abertura das Atividades do Somos Parceiros\nReunião de Aprese
 ntação e Informações sobre o funcionamento do programa\nData: 13 de ma
 io\, terça-feira\nHorário: 17h30 às 19h\nLocal: auditório A104 do CAD2
 \n\nSerá necessária Transmissão Online do Evento para Montes Claros - I
 CA.
LAST-MODIFIED;VALUE=DATE-TIME:20250506T191237Z
URL:http://150.164.76.86:8080/cac/agenda/12620565866763558861
END:VEVENT
BEGIN:VTIMEZONE
TZID:America/Sao_Paulo
X-LIC-LOCATION:America/Sao_Paulo
BEGIN:STANDARD
DTSTART;VALUE=DATE-TIME:20250215T230000
TZNAME:BRT
TZOFFSETFROM:-0200
TZOFFSETTO:-0300
END:STANDARD
END:VTIMEZONE
END:VCALENDAR
