BEGIN:VCALENDAR
VERSION:2.0
PRODID:-//Plone.org//NONSGML plone.app.event//EN
X-WR-TIMEZONE:America/Sao_Paulo
BEGIN:VEVENT
SUMMARY:Oportunidades e Mercado em Biotecnologia - INOVA & Co. em [ Audit
 ório B107 do CAD3 Outros espacos]
DTSTART;TZID=America/Sao_Paulo;VALUE=DATE-TIME:20231110T070000
DTEND;TZID=America/Sao_Paulo;VALUE=DATE-TIME:20231110T140000
DTSTAMP;VALUE=DATE-TIME:20260420T131742Z
UID:28ea891131594ecd941704b610ee777b@150.164.76.86:8080
CREATED;VALUE=DATE-TIME:20231030T165926Z
DESCRIPTION:<p>Necessário 3 microfones\, cabos HDMI\, mesa para cofee bre
 ack com toalha</p>
LAST-MODIFIED;VALUE=DATE-TIME:20231030T183845Z
URL:http://150.164.76.86:8080/cac/agenda/12604585142450708699
END:VEVENT
BEGIN:VTIMEZONE
TZID:America/Sao_Paulo
X-LIC-LOCATION:America/Sao_Paulo
BEGIN:DAYLIGHT
DTSTART;VALUE=DATE-TIME:20231015T010000
TZNAME:BRST
TZOFFSETFROM:-0300
TZOFFSETTO:-0200
END:DAYLIGHT
END:VTIMEZONE
END:VCALENDAR
