BEGIN:VCALENDAR
VERSION:2.0
PRODID:-//Plone.org//NONSGML plone.app.event//EN
X-WR-TIMEZONE:America/Sao_Paulo
BEGIN:VEVENT
SUMMARY:Vestibular da UFMG - Habilidades 2025 em [ Auditorio Nobre do CAD 
 1]
DTSTART;TZID=America/Sao_Paulo;VALUE=DATE-TIME:20250201T120000
DTEND;TZID=America/Sao_Paulo;VALUE=DATE-TIME:20250202T210000
DTSTAMP;VALUE=DATE-TIME:20260419T120329Z
UID:79047a7dd17f43cda312452b20f2fbef@150.164.76.86:8080
CREATED;VALUE=DATE-TIME:20241129T130632Z
DESCRIPTION:<p><span> </span><b><span>Vestibular da UFMG - Habilidades 20
 25</span></b></p>
LAST-MODIFIED;VALUE=DATE-TIME:20241129T130652Z
URL:http://150.164.76.86:8080/cac/agenda/12602104215771773999
END:VEVENT
BEGIN:VTIMEZONE
TZID:America/Sao_Paulo
X-LIC-LOCATION:America/Sao_Paulo
BEGIN:DAYLIGHT
DTSTART;VALUE=DATE-TIME:20241020T010000
TZNAME:BRST
TZOFFSETFROM:-0300
TZOFFSETTO:-0200
END:DAYLIGHT
END:VTIMEZONE
END:VCALENDAR
