BEGIN:VCALENDAR
VERSION:2.0
PRODID:-//Plone.org//NONSGML plone.app.event//EN
X-WR-TIMEZONE:America/Sao_Paulo
BEGIN:VEVENT
SUMMARY:12ª SEMANA DE SAÚDE MENTAL E INCLUSÃO SOCIAL em [ Auditorio A10
 2 do Cad 2 Auditorio A104 do Cad 2]
DTSTART;TZID=America/Sao_Paulo;VALUE=DATE-TIME:20240511T060000
DTEND;TZID=America/Sao_Paulo;VALUE=DATE-TIME:20240521T220000
DTSTAMP;VALUE=DATE-TIME:20260420T043152Z
UID:12e7b91f60924174833299a1331849ae@150.164.76.86:8080
CREATED;VALUE=DATE-TIME:20231106T140227Z
DESCRIPTION:<p>12ª SEMANA DE SAÚDE MENTAL E INCLUSÃO SOCIAL - EVENTO DO
  CALENDÁRIO ACADÊMICO</p>
LAST-MODIFIED;VALUE=DATE-TIME:20240103T140014Z
URL:http://150.164.76.86:8080/cac/agenda/12600537411497250348
END:VEVENT
BEGIN:VTIMEZONE
TZID:America/Sao_Paulo
X-LIC-LOCATION:America/Sao_Paulo
BEGIN:STANDARD
DTSTART;VALUE=DATE-TIME:20240217T230000
TZNAME:BRT
TZOFFSETFROM:-0200
TZOFFSETTO:-0300
END:STANDARD
END:VTIMEZONE
END:VCALENDAR
