BEGIN:VCALENDAR
VERSION:2.0
PRODID:-//Plone.org//NONSGML plone.app.event//EN
X-WR-TIMEZONE:America/Sao_Paulo
BEGIN:VEVENT
SUMMARY:Bloqueio CAC eventos em [ Auditorio da Reitoria Saguao da Reitoria
  Gramado da Reitoria Arena da praça de serviços Entorno da Praca de Serv
 icos Auditorio Nobre do CAD 1 Auditorio 1A do CAD 1 Auditorio 2A do CAD 1 
 Auditorio A102 do Cad 2 Auditorio A104 do Cad 2 Auditório B101/102 do CAD
  3 Auditório B106 do CAD3 Auditório B107 do CAD3 Auditório B301 do CAD 
 3 Auditório B302 do CAD 3]
DTSTART;TZID=America/Sao_Paulo;VALUE=DATE-TIME:20230612T010000
DTEND;TZID=America/Sao_Paulo;VALUE=DATE-TIME:20230612T230000
DTSTAMP;VALUE=DATE-TIME:20260421T145734Z
UID:b8d3be87c3ab41da8cdb420a01a0b384@150.164.76.86:8080
CREATED;VALUE=DATE-TIME:20230301T182838Z
DESCRIPTION:<p>Reorganização pós eventos Administração Central</p>
LAST-MODIFIED;VALUE=DATE-TIME:20230301T183349Z
URL:http://150.164.76.86:8080/cac/agenda/1259014460830960511
END:VEVENT
BEGIN:VTIMEZONE
TZID:America/Sao_Paulo
X-LIC-LOCATION:America/Sao_Paulo
BEGIN:STANDARD
DTSTART;VALUE=DATE-TIME:20230225T230000
TZNAME:BRT
TZOFFSETFROM:-0200
TZOFFSETTO:-0300
END:STANDARD
END:VTIMEZONE
END:VCALENDAR
