BEGIN:VCALENDAR
VERSION:2.0
PRODID:-//Plone.org//NONSGML plone.app.event//EN
X-WR-TIMEZONE:America/Sao_Paulo
BEGIN:VEVENT
SUMMARY:Motirõ - Programa de Desenvolvimento de Negócios de Impacto Soci
 al e Ambiental em [ Auditorio A104 do Cad 2]
DTSTART;TZID=America/Sao_Paulo;VALUE=DATE-TIME:20241118T164500
DTEND;TZID=America/Sao_Paulo;VALUE=DATE-TIME:20241118T182500
DTSTAMP;VALUE=DATE-TIME:20260419T175900Z
UID:6c974d0a81114806a4fa4f8fa66b03fa@150.164.76.86:8080
CREATED;VALUE=DATE-TIME:20241025T151528Z
DESCRIPTION:Estamos organizando aulas teóricas sobre negócios de impacto
  para o Projeto de Extensão Motirõ\, a serem realizadas em um dos audit
 órios solicitados todas as segundas-feiras\, das 16:45 às 18:25\, do dia
  04/11 até 27/01 (excluindo as segundas-feiras de 16/12 a 06/01). Necessi
 tamos de um projetor funcionando para as apresentações. Também estamos 
 avaliando a possibilidade de transmitir o evento para que os membros da co
 munidade acadêmica da UFMG de Montes Claros possam participar\, caso a es
 trutura permita.\n\nCaso ambos os auditórios solicitados não estejam dis
 poníveis\, gostaríamos de solicitar a avaliação de outros auditórios 
 com capacidade para mais de 120 pessoas.
LAST-MODIFIED;VALUE=DATE-TIME:20241025T163456Z
URL:http://150.164.76.86:8080/cac/agenda/12584402465700513316
END:VEVENT
BEGIN:VTIMEZONE
TZID:America/Sao_Paulo
X-LIC-LOCATION:America/Sao_Paulo
BEGIN:DAYLIGHT
DTSTART;VALUE=DATE-TIME:20241020T010000
TZNAME:BRST
TZOFFSETFROM:-0300
TZOFFSETTO:-0200
END:DAYLIGHT
END:VTIMEZONE
END:VCALENDAR
