BEGIN:VCALENDAR
VERSION:2.0
PRODID:-//Plone.org//NONSGML plone.app.event//EN
X-WR-TIMEZONE:America/Sao_Paulo
BEGIN:VEVENT
SUMMARY:Vivências da capoeira em [ Auditório B101/102 do CAD 3]
DTSTART;TZID=America/Sao_Paulo;VALUE=DATE-TIME:20231127T193000
DTEND;TZID=America/Sao_Paulo;VALUE=DATE-TIME:20231127T213000
DTSTAMP;VALUE=DATE-TIME:20260420T143143Z
UID:e00bf22893b0487f98d8fc8ed818d000@150.164.76.86:8080
CREATED;VALUE=DATE-TIME:20231031T141507Z
DESCRIPTION:<p>Vivências da capoeira.Evento organizado pela FUMP. Maiores
  detalhes com Ligia ramal 3121.</p>
LAST-MODIFIED;VALUE=DATE-TIME:20231127T105251Z
URL:http://150.164.76.86:8080/cac/agenda/12580153623042826018
END:VEVENT
BEGIN:VTIMEZONE
TZID:America/Sao_Paulo
X-LIC-LOCATION:America/Sao_Paulo
BEGIN:DAYLIGHT
DTSTART;VALUE=DATE-TIME:20231015T010000
TZNAME:BRST
TZOFFSETFROM:-0300
TZOFFSETTO:-0200
END:DAYLIGHT
END:VTIMEZONE
END:VCALENDAR
