BEGIN:VCALENDAR
VERSION:2.0
PRODID:-//Plone.org//NONSGML plone.app.event//EN
X-WR-TIMEZONE:America/Sao_Paulo
BEGIN:VEVENT
SUMMARY:Jornada Empreendedorismo Nanotech HUB UFMG MERK em [ Auditório B1
 06 do CAD3]
DTSTART;TZID=America/Sao_Paulo;VALUE=DATE-TIME:20231109T130000
DTEND;TZID=America/Sao_Paulo;VALUE=DATE-TIME:20231109T170000
DTSTAMP;VALUE=DATE-TIME:20260420T132150Z
UID:b8df4d84ee634e8d9d15d1d0a8daf2ae@150.164.76.86:8080
CREATED;VALUE=DATE-TIME:20230731T145217Z
DESCRIPTION:<p>Jornada Academica para projetos e alunos ligados a nanotecn
 ologia. Vamos precisar de notebook e toalha na mesa.. previsão de 4 pesso
 as na mesa.</p>
LAST-MODIFIED;VALUE=DATE-TIME:20231018T201838Z
URL:http://150.164.76.86:8080/cac/agenda/12572258729996618826
END:VEVENT
BEGIN:VTIMEZONE
TZID:America/Sao_Paulo
X-LIC-LOCATION:America/Sao_Paulo
BEGIN:DAYLIGHT
DTSTART;VALUE=DATE-TIME:20231015T010000
TZNAME:BRST
TZOFFSETFROM:-0300
TZOFFSETTO:-0200
END:DAYLIGHT
END:VTIMEZONE
END:VCALENDAR
