BEGIN:VCALENDAR
VERSION:2.0
PRODID:-//Plone.org//NONSGML plone.app.event//EN
X-WR-TIMEZONE:America/Sao_Paulo
BEGIN:VEVENT
SUMMARY:Palestra com a autora Luana Tolentino em [ Auditorio A102 do Cad 2
 ]
DTSTART;TZID=America/Sao_Paulo;VALUE=DATE-TIME:20240624T073000
DTEND;TZID=America/Sao_Paulo;VALUE=DATE-TIME:20240624T113000
DTSTAMP;VALUE=DATE-TIME:20260420T030000Z
UID:20a196acce024f3589197119e67d7d5e@150.164.76.86:8080
CREATED;VALUE=DATE-TIME:20240407T190845Z
DESCRIPTION:<p>Palestra para os estudante do 3o ciclo do Centro Pedagógic
 o da UFMG com a autora Luana Tolentino\, no âmbito da pesquisa e projeto 
 de ensino Literatura e educação antirracista.</p>
LAST-MODIFIED;VALUE=DATE-TIME:20240416T200654Z
URL:http://150.164.76.86:8080/cac/agenda/12568621178505689872
END:VEVENT
BEGIN:VTIMEZONE
TZID:America/Sao_Paulo
X-LIC-LOCATION:America/Sao_Paulo
BEGIN:STANDARD
DTSTART;VALUE=DATE-TIME:20240217T230000
TZNAME:BRT
TZOFFSETFROM:-0200
TZOFFSETTO:-0300
END:STANDARD
END:VTIMEZONE
END:VCALENDAR
