BEGIN:VCALENDAR
VERSION:2.0
PRODID:-//Plone.org//NONSGML plone.app.event//EN
X-WR-TIMEZONE:America/Sao_Paulo
BEGIN:VEVENT
SUMMARY:Seminário 50 Anos Programa de Pós-Graduação em Ciência da Com
 putação em [ Auditório B106 do CAD3 - s/ ar condicionado Auditório B10
 1/102 do CAD 3]
DTSTART;TZID=America/Sao_Paulo;VALUE=DATE-TIME:20250328T130000
DTEND;TZID=America/Sao_Paulo;VALUE=DATE-TIME:20250328T180000
DTSTAMP;VALUE=DATE-TIME:20260419T120158Z
UID:4cf2e800b88b4a2e9b6705da65f21fd6@150.164.76.86:8080
CREATED;VALUE=DATE-TIME:20250108T175857Z
DESCRIPTION:<p>Seminário dos 50 Anos do Programa de Pós-Graduação em C
 iência da Computação Departamento de Ciência da Computação Instituto
  de Ciências Exatas Programação: 13:00h às 18:00h - palestras Limpeza 
 prévia Recursos audiovisual (microfone e tela para projeção) Ar condici
 onado</p>
LAST-MODIFIED;VALUE=DATE-TIME:20250203T205549Z
URL:http://150.164.76.86:8080/cac/agenda/12567960245709976401
END:VEVENT
BEGIN:VTIMEZONE
TZID:America/Sao_Paulo
X-LIC-LOCATION:America/Sao_Paulo
BEGIN:STANDARD
DTSTART;VALUE=DATE-TIME:20250215T230000
TZNAME:BRT
TZOFFSETFROM:-0200
TZOFFSETTO:-0300
END:STANDARD
END:VTIMEZONE
END:VCALENDAR
