BEGIN:VCALENDAR
VERSION:2.0
PRODID:-//Plone.org//NONSGML plone.app.event//EN
X-WR-TIMEZONE:America/Sao_Paulo
BEGIN:VEVENT
SUMMARY:Feira da UFMG em [ Em torno da Praca de Servicos]
DTSTART;TZID=America/Sao_Paulo;VALUE=DATE-TIME:20221123T070000
DTEND;TZID=America/Sao_Paulo;VALUE=DATE-TIME:20221123T180000
DTSTAMP;VALUE=DATE-TIME:20260421T221747Z
UID:b596d931b2ab41ee82cd233a84118a64@150.164.76.86:8080
CREATED;VALUE=DATE-TIME:20220705T202749Z
DESCRIPTION:Não será necessário nenhum equipamento ou serviço.
LAST-MODIFIED;VALUE=DATE-TIME:20220706T143104Z
URL:http://150.164.76.86:8080/cac/agenda/12540506414656801409
END:VEVENT
BEGIN:VTIMEZONE
TZID:America/Sao_Paulo
X-LIC-LOCATION:America/Sao_Paulo
BEGIN:DAYLIGHT
DTSTART;VALUE=DATE-TIME:20221016T010000
TZNAME:BRST
TZOFFSETFROM:-0300
TZOFFSETTO:-0200
END:DAYLIGHT
END:VTIMEZONE
END:VCALENDAR
