BEGIN:VCALENDAR
VERSION:2.0
PRODID:-//Plone.org//NONSGML plone.app.event//EN
X-WR-TIMEZONE:America/Sao_Paulo
BEGIN:VEVENT
SUMMARY:Aula inaugural da disciplina Cartografias do samba em Belo Horizon
 te: escutas\, práticas e teorias. em [ Auditório B107 do CAD3]
DTSTART;TZID=America/Sao_Paulo;VALUE=DATE-TIME:20230829T140000
DTEND;TZID=America/Sao_Paulo;VALUE=DATE-TIME:20230829T190000
DTSTAMP;VALUE=DATE-TIME:20260421T091350Z
UID:25612890509944929cfa718e4d9cfbc9@150.164.76.86:8080
CREATED;VALUE=DATE-TIME:20230808T110804Z
DESCRIPTION:<p>Esta é a aula inaugural da disciplina em Formação Transv
 eral Cartografias do samba em Belo Horizonte: escutas\, práticas e teoria
 s. Serão necessários recursos básicos como microfones (três\, se poss
 ível) e projetor de slides. O público estimado é de 50 pessoas. Grato p
 ela atenção\, Nísio Teixeira</p>\n<p>Evento modo aula</p>
LAST-MODIFIED;VALUE=DATE-TIME:20230808T144753Z
URL:http://150.164.76.86:8080/cac/agenda/1252125944804625578
END:VEVENT
BEGIN:VTIMEZONE
TZID:America/Sao_Paulo
X-LIC-LOCATION:America/Sao_Paulo
BEGIN:STANDARD
DTSTART;VALUE=DATE-TIME:20230225T230000
TZNAME:BRT
TZOFFSETFROM:-0200
TZOFFSETTO:-0300
END:STANDARD
END:VTIMEZONE
END:VCALENDAR
