BEGIN:VCALENDAR
VERSION:2.0
PRODID:-//Plone.org//NONSGML plone.app.event//EN
X-WR-TIMEZONE:America/Sao_Paulo
BEGIN:VEVENT
SUMMARY:Colação de grau ICB em [ Auditorio Nobre do CAD 1]
DTSTART;TZID=America/Sao_Paulo;VALUE=DATE-TIME:20250218T130000
DTEND;TZID=America/Sao_Paulo;VALUE=DATE-TIME:20250218T180000
DTSTAMP;VALUE=DATE-TIME:20260419T134127Z
UID:7e534a0f766145f5a4dbdd35fc83daf0@150.164.76.86:8080
CREATED;VALUE=DATE-TIME:20241217T142348Z
DESCRIPTION:<p>Colação de grau de alunos de graduação do ICB.</p>
LAST-MODIFIED;VALUE=DATE-TIME:20250205T123053Z
URL:http://150.164.76.86:8080/cac/agenda/12503833915235801116
END:VEVENT
BEGIN:VTIMEZONE
TZID:America/Sao_Paulo
X-LIC-LOCATION:America/Sao_Paulo
BEGIN:STANDARD
DTSTART;VALUE=DATE-TIME:20250215T230000
TZNAME:BRT
TZOFFSETFROM:-0200
TZOFFSETTO:-0300
END:STANDARD
END:VTIMEZONE
END:VCALENDAR
