BEGIN:VCALENDAR
VERSION:2.0
PRODID:-//Plone.org//NONSGML plone.app.event//EN
X-WR-TIMEZONE:America/Sao_Paulo
BEGIN:VEVENT
SUMMARY:55ª Festival de Inverno em [ Auditorio da Reitoria Saguao da Reit
 oria Gramado da Reitoria Arena da praça de serviços Entorno da Praca de 
 Servicos Auditorio Nobre do CAD 1 Auditorio 1A do CAD 1 Auditorio 2A do CA
 D 1 Auditorio A102 do Cad 2 Auditorio A104 do Cad 2 Auditório B101/102 do
  CAD 3 Auditório B301 do CAD 3 Auditório B302 do CAD 3 Auditório B106 d
 o CAD3 Auditório B107 do CAD3 Outros espacos]
DTSTART;TZID=America/Sao_Paulo;VALUE=DATE-TIME:20230719T000000
DTEND;TZID=America/Sao_Paulo;VALUE=DATE-TIME:20230726T230000
DTSTAMP;VALUE=DATE-TIME:20260421T104236Z
UID:962b22ab03ed4632aafa6e5377e36cce@150.164.76.86:8080
CREATED;VALUE=DATE-TIME:20221110T135649Z
DESCRIPTION:<p>55ª Festival de Inverno</p>
LAST-MODIFIED;VALUE=DATE-TIME:20230111T201119Z
URL:http://150.164.76.86:8080/cac/agenda/12489126719699077445
END:VEVENT
BEGIN:VTIMEZONE
TZID:America/Sao_Paulo
X-LIC-LOCATION:America/Sao_Paulo
BEGIN:STANDARD
DTSTART;VALUE=DATE-TIME:20230225T230000
TZNAME:BRT
TZOFFSETFROM:-0200
TZOFFSETTO:-0300
END:STANDARD
END:VTIMEZONE
END:VCALENDAR
