BEGIN:VCALENDAR
VERSION:2.0
PRODID:-//Plone.org//NONSGML plone.app.event//EN
X-WR-TIMEZONE:America/Sao_Paulo
BEGIN:VEVENT
SUMMARY:C&T no controle da COVID-19 e de futuras pandemias em [ Auditorio 
 da Reitoria]
DTSTART;TZID=America/Sao_Paulo;VALUE=DATE-TIME:20221027T140000
DTEND;TZID=America/Sao_Paulo;VALUE=DATE-TIME:20221027T170000
DTSTAMP;VALUE=DATE-TIME:20260421T235403Z
UID:77019421eb7548a184c18e6b0d611a8f@150.164.76.86:8080
CREATED;VALUE=DATE-TIME:20220909T175708Z
DESCRIPTION:<p>Evento da PRPq chamado "C&amp\;T no controle da COVID-19 e 
 de futuras pandemias". Solicitamos equipe de som\, filmagem\, cerimonial e
  fotógrafo. Caso não seja possível\, solicitamos informações sobre qu
 em procurar. nossos contatos: info@prpq.ufmg.br 3409-4031</p>
LAST-MODIFIED;VALUE=DATE-TIME:20220922T114940Z
URL:http://150.164.76.86:8080/cac/agenda/12488464098745812969
END:VEVENT
BEGIN:VTIMEZONE
TZID:America/Sao_Paulo
X-LIC-LOCATION:America/Sao_Paulo
BEGIN:DAYLIGHT
DTSTART;VALUE=DATE-TIME:20221016T010000
TZNAME:BRST
TZOFFSETFROM:-0300
TZOFFSETTO:-0200
END:DAYLIGHT
END:VTIMEZONE
END:VCALENDAR
