BEGIN:VCALENDAR
VERSION:2.0
PRODID:-//Plone.org//NONSGML plone.app.event//EN
X-WR-TIMEZONE:America/Sao_Paulo
BEGIN:VEVENT
SUMMARY:Seminário Fhemig - tema a definir em [ Outros espacos]
DTSTART;TZID=America/Sao_Paulo;VALUE=DATE-TIME:20230913T140000
DTEND;TZID=America/Sao_Paulo;VALUE=DATE-TIME:20230913T160000
DTSTAMP;VALUE=DATE-TIME:20260421T091314Z
UID:5aa43bf654be45358348674e82b68a8d@150.164.76.86:8080
CREATED;VALUE=DATE-TIME:20230808T115726Z
DESCRIPTION:Seminário da parceria UFMG/Fhemig
LAST-MODIFIED;VALUE=DATE-TIME:20230808T172216Z
URL:http://150.164.76.86:8080/cac/agenda/1248484523186200490
END:VEVENT
BEGIN:VTIMEZONE
TZID:America/Sao_Paulo
X-LIC-LOCATION:America/Sao_Paulo
BEGIN:STANDARD
DTSTART;VALUE=DATE-TIME:20230225T230000
TZNAME:BRT
TZOFFSETFROM:-0200
TZOFFSETTO:-0300
END:STANDARD
END:VTIMEZONE
END:VCALENDAR
