BEGIN:VCALENDAR
VERSION:2.0
PRODID:-//Plone.org//NONSGML plone.app.event//EN
X-WR-TIMEZONE:America/Sao_Paulo
BEGIN:VEVENT
SUMMARY:Colação de Grau oficial do Curso de Graduação em Gestão de Se
 rviços de Saúde em [ Auditorio Nobre do CAD 1]
DTSTART;TZID=America/Sao_Paulo;VALUE=DATE-TIME:20230118T190000
DTEND;TZID=America/Sao_Paulo;VALUE=DATE-TIME:20230118T210000
DTSTAMP;VALUE=DATE-TIME:20260421T175425Z
UID:940aa857f0ca4dfbbe43f8720f0b08fe@150.164.76.86:8080
CREATED;VALUE=DATE-TIME:20220526T131238Z
DESCRIPTION:<p>Trata-se da solenidade oficial da Congregação para colaç
 ão de grau dos formandos do curso de Gestão de Serviços de Saúde - Esc
 ola de Enfermagem.</p>
LAST-MODIFIED;VALUE=DATE-TIME:20230109T144453Z
URL:http://150.164.76.86:8080/cac/agenda/12451377251551604007
END:VEVENT
BEGIN:VTIMEZONE
TZID:America/Sao_Paulo
X-LIC-LOCATION:America/Sao_Paulo
BEGIN:DAYLIGHT
DTSTART;VALUE=DATE-TIME:20221016T010000
TZNAME:BRST
TZOFFSETFROM:-0300
TZOFFSETTO:-0200
END:DAYLIGHT
END:VTIMEZONE
END:VCALENDAR
