BEGIN:VCALENDAR
VERSION:2.0
PRODID:-//Plone.org//NONSGML plone.app.event//EN
X-WR-TIMEZONE:America/Sao_Paulo
BEGIN:VEVENT
SUMMARY:PICADEIRRÓ em [ Arena da praça de serviços]
DTSTART;TZID=America/Sao_Paulo;VALUE=DATE-TIME:20230322T173000
DTEND;TZID=America/Sao_Paulo;VALUE=DATE-TIME:20230322T190000
DTSTAMP;VALUE=DATE-TIME:20260421T164318Z
UID:2a39fc718fba478092a94deb14b8d826@150.164.76.86:8080
CREATED;VALUE=DATE-TIME:20230301T020456Z
DESCRIPTION:<p>O PicadeRRÓ é um evento de extensão da UFMG que promove 
 gratuitamente forró para toda a comunidade da universidade. Dessa forma\,
  utilizamos uma caixa de som é uma mesa para acomodar os equipamentos nec
 essários para a realização do evento (computador\, microfone). <span>O
 BS: Equipamentos próprios. Não haverá empréstimo\, nem atendimento CAC
 \, conforme já informado.</span></p>
LAST-MODIFIED;VALUE=DATE-TIME:20230301T163706Z
URL:http://150.164.76.86:8080/cac/agenda/12437540462668857690
END:VEVENT
BEGIN:VTIMEZONE
TZID:America/Sao_Paulo
X-LIC-LOCATION:America/Sao_Paulo
BEGIN:STANDARD
DTSTART;VALUE=DATE-TIME:20230225T230000
TZNAME:BRT
TZOFFSETFROM:-0200
TZOFFSETTO:-0300
END:STANDARD
END:VTIMEZONE
END:VCALENDAR
