BEGIN:VCALENDAR
VERSION:2.0
PRODID:-//Plone.org//NONSGML plone.app.event//EN
X-WR-TIMEZONE:America/Sao_Paulo
BEGIN:VEVENT
SUMMARY:Quarta Doze e Trinta - Circuito Cultural UFMG  em [ Arena da praç
 a de serviços]
DTSTART;TZID=America/Sao_Paulo;VALUE=DATE-TIME:20200408T090000
DTEND;TZID=America/Sao_Paulo;VALUE=DATE-TIME:20200408T150000
DTSTAMP;VALUE=DATE-TIME:20260425T010334Z
UID:7a6e0746279a430f83aac9a55c0e9a9d@150.164.76.86:8080
CREATED;VALUE=DATE-TIME:20200214T175929Z
DESCRIPTION:Evento Quarta Doze e Trinta\, realizado pela Diretoria de Aç
 ão Cultural da UFMG. As demandas técnicas serão encaminhadas\, oportuna
 mente\, pelo setor de Produção Executiva (Rosangela\, Danielle e André 
 - 3409-6412 eventos@dac.ufmg.br).
LAST-MODIFIED;VALUE=DATE-TIME:20200217T130019Z
URL:http://150.164.76.86:8080/cac/agenda/12431869467231606207
END:VEVENT
BEGIN:VTIMEZONE
TZID:America/Sao_Paulo
X-LIC-LOCATION:America/Sao_Paulo
BEGIN:STANDARD
DTSTART;VALUE=DATE-TIME:20200215T230000
TZNAME:BRT
TZOFFSETFROM:-0200
TZOFFSETTO:-0300
END:STANDARD
END:VTIMEZONE
END:VCALENDAR
