BEGIN:VCALENDAR
VERSION:2.0
PRODID:-//Plone.org//NONSGML plone.app.event//EN
X-WR-TIMEZONE:America/Sao_Paulo
BEGIN:VEVENT
SUMMARY:BANCA DE HETEROIDENTIFICAÇÃO em [ Outros espacos]
DTSTART;TZID=America/Sao_Paulo;VALUE=DATE-TIME:20250404T070000
DTEND;TZID=America/Sao_Paulo;VALUE=DATE-TIME:20250404T190000
DTSTAMP;VALUE=DATE-TIME:20260419T091427Z
UID:18fea63bc8b24ba7b03a18ae8911c2fd@150.164.76.86:8080
CREATED;VALUE=DATE-TIME:20250108T141402Z
DESCRIPTION:<p>4/4/2025    SISU    5ª Chamada    CPAAI    Ban
 ca Recursal de Heteroidentificação dos candidatos indeferidos<br />4/4/2
 025    SISU    6ª e 7ª Chamadas    CPAAI\, NAI    Banca de H
 eteroidentificação e Banca de Verificação e Validação PCD<br />4/4/2
 025    HABILIDADES    4ª Chamada e 3ª Antecipação    CPAAI 
    Banca Recursal de Heteroidentificação dos candidatos indeferidos<br
  /><br /></p>
LAST-MODIFIED;VALUE=DATE-TIME:20250331T153214Z
URL:http://150.164.76.86:8080/cac/agenda/124152695452261756
END:VEVENT
BEGIN:VTIMEZONE
TZID:America/Sao_Paulo
X-LIC-LOCATION:America/Sao_Paulo
BEGIN:STANDARD
DTSTART;VALUE=DATE-TIME:20250215T230000
TZNAME:BRT
TZOFFSETFROM:-0200
TZOFFSETTO:-0300
END:STANDARD
END:VTIMEZONE
END:VCALENDAR
