BEGIN:VCALENDAR
VERSION:2.0
PRODID:-//Plone.org//NONSGML plone.app.event//EN
X-WR-TIMEZONE:America/Sao_Paulo
BEGIN:VEVENT
SUMMARY:54º Festival de Inverno da UFMG em [ Outros espacos]
DTSTART;TZID=America/Sao_Paulo;VALUE=DATE-TIME:20220824T070000
DTEND;TZID=America/Sao_Paulo;VALUE=DATE-TIME:20220826T210000
DTSTAMP;VALUE=DATE-TIME:20260422T032015Z
UID:576d7b106fec4e37bae38bf69a79a295@150.164.76.86:8080
CREATED;VALUE=DATE-TIME:20220524T172706Z
DESCRIPTION:54º Festival de Inverno da UFMG\n\n-Transmissão para canal n
 o Youtube das palestras\n\n- Equipamentos de som e luz\n\n- Programação 
 durante todo o dia ( em planejamento)
LAST-MODIFIED;VALUE=DATE-TIME:20220621T191244Z
URL:http://150.164.76.86:8080/cac/agenda/12412665247531759772
END:VEVENT
BEGIN:VTIMEZONE
TZID:America/Sao_Paulo
X-LIC-LOCATION:America/Sao_Paulo
BEGIN:STANDARD
DTSTART;VALUE=DATE-TIME:20220219T230000
TZNAME:BRT
TZOFFSETFROM:-0200
TZOFFSETTO:-0300
END:STANDARD
END:VTIMEZONE
END:VCALENDAR
