BEGIN:VCALENDAR
VERSION:2.0
PRODID:-//Plone.org//NONSGML plone.app.event//EN
X-WR-TIMEZONE:America/Sao_Paulo
BEGIN:VEVENT
SUMMARY:Aula inaugural - estudantes ingressantes nos cursos técnicos inte
 grados do COLTEC em [ Auditorio Nobre do CAD 1]
DTSTART;TZID=America/Sao_Paulo;VALUE=DATE-TIME:20250204T080000
DTEND;TZID=America/Sao_Paulo;VALUE=DATE-TIME:20250204T120000
DTSTAMP;VALUE=DATE-TIME:20260419T120425Z
UID:5c216e8e14924961803359cf01bb5a32@150.164.76.86:8080
CREATED;VALUE=DATE-TIME:20241104T132721Z
DESCRIPTION:<p>Data show\, microfone. Aula inaugural para os estudantes in
 gressantes nos cursos técnicos integrados.</p>
LAST-MODIFIED;VALUE=DATE-TIME:20241218T135621Z
URL:http://150.164.76.86:8080/cac/agenda/12394946913644128030
END:VEVENT
BEGIN:VTIMEZONE
TZID:America/Sao_Paulo
X-LIC-LOCATION:America/Sao_Paulo
BEGIN:DAYLIGHT
DTSTART;VALUE=DATE-TIME:20241020T010000
TZNAME:BRST
TZOFFSETFROM:-0300
TZOFFSETTO:-0200
END:DAYLIGHT
END:VTIMEZONE
END:VCALENDAR
