BEGIN:VCALENDAR
VERSION:2.0
PRODID:-//Plone.org//NONSGML plone.app.event//EN
X-WR-TIMEZONE:America/Sao_Paulo
BEGIN:VEVENT
SUMMARY:Introdução ao Zen Budismo em [ Auditório B106 do CAD3]
DTSTART;TZID=America/Sao_Paulo;VALUE=DATE-TIME:20230922T180000
DTEND;TZID=America/Sao_Paulo;VALUE=DATE-TIME:20230922T210000
DTSTAMP;VALUE=DATE-TIME:20260421T075307Z
UID:db56635a01f34858985201fe3bb05d36@150.164.76.86:8080
CREATED;VALUE=DATE-TIME:20230821T235247Z
DESCRIPTION:<p>Equipamentos necessários: 3 microfones e um projetor de sl
 ides Programação: início - 18h Seminário do monge Mokugen Roshi sobre 
 Introdução ao Zen Budismo (Duração 40-50min) Espaço aberto para pergu
 ntas do público (15-20min) Seminário do prof. Giuseppe Ferraro sobre Bud
 ismo Indiano e o pensamento de Nagarjuna (Duração 40-50min) Espaço aber
 to para perguntas do público (15-20min) Fim - entre 20h30 e 21h</p>
LAST-MODIFIED;VALUE=DATE-TIME:20230914T142928Z
URL:http://150.164.76.86:8080/cac/agenda/12393927178708107703
END:VEVENT
BEGIN:VTIMEZONE
TZID:America/Sao_Paulo
X-LIC-LOCATION:America/Sao_Paulo
BEGIN:STANDARD
DTSTART;VALUE=DATE-TIME:20230225T230000
TZNAME:BRT
TZOFFSETFROM:-0200
TZOFFSETTO:-0300
END:STANDARD
END:VTIMEZONE
END:VCALENDAR
