BEGIN:VCALENDAR
VERSION:2.0
PRODID:-//Plone.org//NONSGML plone.app.event//EN
X-WR-TIMEZONE:America/Sao_Paulo
BEGIN:VEVENT
SUMMARY:Troca de Gestão- Engenharia Solidária em [ Auditorio Nobre do CA
 D 1]
DTSTART;TZID=America/Sao_Paulo;VALUE=DATE-TIME:20220718T183000
DTEND;TZID=America/Sao_Paulo;VALUE=DATE-TIME:20220718T210000
DTSTAMP;VALUE=DATE-TIME:20260422T044800Z
UID:75420921db4a40ecb24494e4dabd1917@150.164.76.86:8080
CREATED;VALUE=DATE-TIME:20220705T161428Z
DESCRIPTION:Estamos no final desta gestão atual e gostaríamos de realiza
 r uma solenidade para despedir dos membros que vão e receber os novos. Pl
 anejamos que seja apenas uma apresentação de slides com os resultados da
 s ações do semestre. Para isso gostaríamos de microfone\, projetor e ca
 bos para conectar o projetor ao nosso notebook.
LAST-MODIFIED;VALUE=DATE-TIME:20220706T150731Z
URL:http://150.164.76.86:8080/cac/agenda/12383964741337515320
END:VEVENT
BEGIN:VTIMEZONE
TZID:America/Sao_Paulo
X-LIC-LOCATION:America/Sao_Paulo
BEGIN:STANDARD
DTSTART;VALUE=DATE-TIME:20220219T230000
TZNAME:BRT
TZOFFSETFROM:-0200
TZOFFSETTO:-0300
END:STANDARD
END:VTIMEZONE
END:VCALENDAR
