BEGIN:VCALENDAR
VERSION:2.0
PRODID:-//Plone.org//NONSGML plone.app.event//EN
X-WR-TIMEZONE:America/Sao_Paulo
BEGIN:VEVENT
SUMMARY:Sessão Solene de Colação de Grau do Curso de Enfermagem em [ Au
 ditorio Nobre do CAD 1]
DTSTART;TZID=America/Sao_Paulo;VALUE=DATE-TIME:20230120T190000
DTEND;TZID=America/Sao_Paulo;VALUE=DATE-TIME:20230120T210000
DTSTAMP;VALUE=DATE-TIME:20260421T175648Z
UID:4f8cd45a9e834c9b9452e82f371c755c@150.164.76.86:8080
CREATED;VALUE=DATE-TIME:20220304T185934Z
DESCRIPTION:<p>Sessão Solene da Egrégia Congregação para a realizaçã
 o da Colação de grau dos formandos do curso de Enfermagem\, referente ao
  segundo semestre de 2022.</p>
LAST-MODIFIED;VALUE=DATE-TIME:20220308T154217Z
URL:http://150.164.76.86:8080/cac/agenda/12369707983544299593
END:VEVENT
BEGIN:VTIMEZONE
TZID:America/Sao_Paulo
X-LIC-LOCATION:America/Sao_Paulo
BEGIN:DAYLIGHT
DTSTART;VALUE=DATE-TIME:20221016T010000
TZNAME:BRST
TZOFFSETFROM:-0300
TZOFFSETTO:-0200
END:DAYLIGHT
END:VTIMEZONE
END:VCALENDAR
