BEGIN:VCALENDAR
VERSION:2.0
PRODID:-//Plone.org//NONSGML plone.app.event//EN
X-WR-TIMEZONE:America/Sao_Paulo
BEGIN:VEVENT
SUMMARY:Série de Seminários CTVacinas em [ Outros espacos]
DTSTART;TZID=America/Sao_Paulo;VALUE=DATE-TIME:20230215T160000
DTEND;TZID=America/Sao_Paulo;VALUE=DATE-TIME:20230215T173000
DTSTAMP;VALUE=DATE-TIME:20260421T180959Z
UID:8a55cda60b6947b885ff63aabada4da0@150.164.76.86:8080
CREATED;VALUE=DATE-TIME:20230202T194143Z
DESCRIPTION:É a terceira palestra de uma série de Seminários do CTVacin
 as. O evento vai ser realizado no auditório do BH-TEC\, às 16h do dia 15
 \, uma quarta-feira.\n\nNão vai ter uma mesa\, apenas o palestrante no pa
 lco. Um dos coordenadores do CTVacinas vai apresentá-lo antes do início 
 da palestra\, mas apenas um microfone será usado.\n\nA CAC fez a transmis
 são no YouTube do evento que inaugurou a Série de Seminários do CTVacin
 as\, no dia 1º de fevereiro.\n\nUma câmera basta\, além de um microfone
  com fio (no último evento\, o microfone disponibilizado pelo BH-TEC apre
 sentou falhas).\n\nA transmissão será feita no próprio canal da CAC\, n
 o YouTube. \n\nA previsão é que a palestra dure um pouco menos de 1h par
 a\, na sequência\, os participantes terem oportunidade para fazer pergunt
 as. Coloquei 1h30 de duração para termos margem.\n\nQualquer dúvida\, e
 stou à disposição. Muitíssimo obrigado.
LAST-MODIFIED;VALUE=DATE-TIME:20230203T112256Z
URL:http://150.164.76.86:8080/cac/agenda/1235433669466214923
END:VEVENT
BEGIN:VTIMEZONE
TZID:America/Sao_Paulo
X-LIC-LOCATION:America/Sao_Paulo
BEGIN:DAYLIGHT
DTSTART;VALUE=DATE-TIME:20221016T010000
TZNAME:BRST
TZOFFSETFROM:-0300
TZOFFSETTO:-0200
END:DAYLIGHT
END:VTIMEZONE
END:VCALENDAR
