BEGIN:VCALENDAR
VERSION:2.0
PRODID:-//Plone.org//NONSGML plone.app.event//EN
X-WR-TIMEZONE:America/Sao_Paulo
BEGIN:VEVENT
SUMMARY:Palestra sobre PGD em [ Auditorio da Reitoria Outros espacos]
DTSTART;TZID=America/Sao_Paulo;VALUE=DATE-TIME:20250429T100000
DTEND;TZID=America/Sao_Paulo;VALUE=DATE-TIME:20250429T140000
DTSTAMP;VALUE=DATE-TIME:20260419T103330Z
UID:25c42295f92145d58936203b13091fda@150.164.76.86:8080
CREATED;VALUE=DATE-TIME:20250404T133447Z
DESCRIPTION:<p>Palestra sobre PGD</p>
LAST-MODIFIED;VALUE=DATE-TIME:20250407T132449Z
URL:http://150.164.76.86:8080/cac/agenda/12350273371373346355
END:VEVENT
BEGIN:VTIMEZONE
TZID:America/Sao_Paulo
X-LIC-LOCATION:America/Sao_Paulo
BEGIN:STANDARD
DTSTART;VALUE=DATE-TIME:20250215T230000
TZNAME:BRT
TZOFFSETFROM:-0200
TZOFFSETTO:-0300
END:STANDARD
END:VTIMEZONE
END:VCALENDAR
