BEGIN:VCALENDAR
VERSION:2.0
PRODID:-//Plone.org//NONSGML plone.app.event//EN
X-WR-TIMEZONE:America/Sao_Paulo
BEGIN:VEVENT
SUMMARY:COLAÇÃO DE GRAU ARQUIVOLOGIA\, BIBLIOTECONOMIA E MUSEOLOGIA em [
  Auditorio A102 do Cad 2 Auditorio A104 do Cad 2]
DTSTART;TZID=America/Sao_Paulo;VALUE=DATE-TIME:20240412T190000
DTEND;TZID=America/Sao_Paulo;VALUE=DATE-TIME:20240412T220000
DTSTAMP;VALUE=DATE-TIME:20260420T044449Z
UID:838fec7093d048c5be95437dfd4e63c7@150.164.76.86:8080
CREATED;VALUE=DATE-TIME:20240109T172716Z
DESCRIPTION:<p>Colação de grau dos cursos de graduação em museologia\,
  arquivologia e biblioteconomia.</p>
LAST-MODIFIED;VALUE=DATE-TIME:20240403T155002Z
URL:http://150.164.76.86:8080/cac/agenda/12336159821530672
END:VEVENT
BEGIN:VTIMEZONE
TZID:America/Sao_Paulo
X-LIC-LOCATION:America/Sao_Paulo
BEGIN:STANDARD
DTSTART;VALUE=DATE-TIME:20240217T230000
TZNAME:BRT
TZOFFSETFROM:-0200
TZOFFSETTO:-0300
END:STANDARD
END:VTIMEZONE
END:VCALENDAR
